BEGIN:VCALENDAR
VERSION:2.0
PRODID:spatie/icalendar-generator
DESCRIPTION:Veranstaltungen von Frauenzentrum Brennessel
X-WR-CALDESC:Veranstaltungen von Frauenzentrum Brennessel
REFRESH-INTERVAL;VALUE=DURATION:PT1440M
X-PUBLISHED-TTL:PT1440M
BEGIN:VTIMEZONE
TZID:Europe/Berlin
BEGIN:STANDARD
DTSTART:20241027T030000Z
TZOFFSETFROM:+0200
TZOFFSETTO:+0100
END:STANDARD
BEGIN:DAYLIGHT
DTSTART:20250330T020000Z
TZOFFSETFROM:+0100
TZOFFSETTO:+0200
END:DAYLIGHT
END:VTIMEZONE
BEGIN:VTIMEZONE
TZID:UTC
BEGIN:STANDARD
DTSTART:20250724T230028Z
TZOFFSETFROM:+0000
TZOFFSETTO:+0000
END:STANDARD
END:VTIMEZONE
BEGIN:VEVENT
UID:2314-92
DTSTAMP:20260420T230028Z
SUMMARY:Yoga sanft mit Simone
LOCATION:Frauenzentrum Brennessel e.V. – Zentrum gegen Gewalt an Frauen R
 egierungsstraße 28  Erfurt Thüringen 99084
ORGANIZER;CN=Brennessel:MAILTO:wordpress.brennessel@t-online.de
RRULE:FREQ=WEEKLY;UNTIL=20250422T000000Z
DTSTART;TZID=Europe/Berlin:20250325T170000
DTEND;TZID=Europe/Berlin:20250325T180000
X-ALT-DESC;FMTTYPE=TEXT/HTML:<p>Teilnahme nur mit Anmeldung!</p>\n
CATEGORIES:General
URL;VALUE=URI:https://frauenzentrum-brennessel.de/mc-events/yoga-sanft-mit-
 simone/?mc_id=2314
METHOD:PUBLISH
END:VEVENT
END:VCALENDAR